BEGIN:VCALENDAR
VERSION:2.0
PRODID:-//North Carolina Submarine Veterans  - ECPv6.15.11//NONSGML v1.0//EN
CALSCALE:GREGORIAN
METHOD:PUBLISH
X-ORIGINAL-URL:https://ncsubvets.org
X-WR-CALDESC:Events for North Carolina Submarine Veterans 
REFRESH-INTERVAL;VALUE=DURATION:PT1H
X-Robots-Tag:noindex
X-PUBLISHED-TTL:PT1H
BEGIN:VTIMEZONE
TZID:America/New_York
BEGIN:DAYLIGHT
TZOFFSETFROM:-0500
TZOFFSETTO:-0400
TZNAME:EDT
DTSTART:20240310T070000
END:DAYLIGHT
BEGIN:STANDARD
TZOFFSETFROM:-0400
TZOFFSETTO:-0500
TZNAME:EST
DTSTART:20241103T060000
END:STANDARD
BEGIN:DAYLIGHT
TZOFFSETFROM:-0500
TZOFFSETTO:-0400
TZNAME:EDT
DTSTART:20250309T070000
END:DAYLIGHT
BEGIN:STANDARD
TZOFFSETFROM:-0400
TZOFFSETTO:-0500
TZNAME:EST
DTSTART:20251102T060000
END:STANDARD
BEGIN:DAYLIGHT
TZOFFSETFROM:-0500
TZOFFSETTO:-0400
TZNAME:EDT
DTSTART:20260308T070000
END:DAYLIGHT
BEGIN:STANDARD
TZOFFSETFROM:-0400
TZOFFSETTO:-0500
TZNAME:EST
DTSTART:20261101T060000
END:STANDARD
END:VTIMEZONE
BEGIN:VEVENT
DTSTART;VALUE=DATE:20250516
DTEND;VALUE=DATE:20250519
DTSTAMP:20260424T024448
CREATED:20250211T174221Z
LAST-MODIFIED:20250418T000721Z
UID:6937-1747353600-1747612799@ncsubvets.org
SUMMARY:2025 NC SubVets Burnsville Memorial Service
DESCRIPTION:2025 Burnsville Registration \nOnce again it is time to hold the annual memorial service May 16 – 18 on Moonshine Mountain outside of Burnsville. NC.  This memorial service has been held annually since 2003\, when the Tarheel Chapter (USSV-WWII) and tthe Tarheel Base first met there to dedicate this memorial.  It was built by TMC(SS)) Flowers\, a WWII subvet who served on the USS Gato (SS-212) during WWII. \nSo consider attending this memorial service this year and spend a great weekend at the Big Lynn Lodge.  The registration form is attached as well as the information for the Big Lynn Lodge.\nChuck Jensen \n2025 Burnsville Service Registration Form    Big Lynn Lodge Map 
URL:https://ncsubvets.org/event/2025-nc-subvets-burnsville-memorial-service/
LOCATION:Big Lynn Lodge\, Little Switzerland\, NC\, 10860 Hwy. 226A\, Little Switzerland\,\, NC\, 28749\, United States
END:VEVENT
END:VCALENDAR