BEGIN:VCALENDAR
VERSION:2.0
PRODID:-//North Carolina Submarine Veterans  - ECPv6.15.11//NONSGML v1.0//EN
CALSCALE:GREGORIAN
METHOD:PUBLISH
X-ORIGINAL-URL:https://ncsubvets.org
X-WR-CALDESC:Events for North Carolina Submarine Veterans 
REFRESH-INTERVAL;VALUE=DURATION:PT1H
X-Robots-Tag:noindex
X-PUBLISHED-TTL:PT1H
BEGIN:VTIMEZONE
TZID:America/New_York
BEGIN:DAYLIGHT
TZOFFSETFROM:-0500
TZOFFSETTO:-0400
TZNAME:EDT
DTSTART:20240310T070000
END:DAYLIGHT
BEGIN:STANDARD
TZOFFSETFROM:-0400
TZOFFSETTO:-0500
TZNAME:EST
DTSTART:20241103T060000
END:STANDARD
BEGIN:DAYLIGHT
TZOFFSETFROM:-0500
TZOFFSETTO:-0400
TZNAME:EDT
DTSTART:20250309T070000
END:DAYLIGHT
BEGIN:STANDARD
TZOFFSETFROM:-0400
TZOFFSETTO:-0500
TZNAME:EST
DTSTART:20251102T060000
END:STANDARD
BEGIN:DAYLIGHT
TZOFFSETFROM:-0500
TZOFFSETTO:-0400
TZNAME:EDT
DTSTART:20260308T070000
END:DAYLIGHT
BEGIN:STANDARD
TZOFFSETFROM:-0400
TZOFFSETTO:-0500
TZNAME:EST
DTSTART:20261101T060000
END:STANDARD
BEGIN:DAYLIGHT
TZOFFSETFROM:-0500
TZOFFSETTO:-0400
TZNAME:EDT
DTSTART:20270314T070000
END:DAYLIGHT
BEGIN:STANDARD
TZOFFSETFROM:-0400
TZOFFSETTO:-0500
TZNAME:EST
DTSTART:20271107T060000
END:STANDARD
END:VTIMEZONE
BEGIN:VEVENT
DTSTART;TZID=America/New_York:20251022T090000
DTEND;TZID=America/New_York:20251022T170000
DTSTAMP:20260423T193535
CREATED:20250925T152950Z
LAST-MODIFIED:20250925T152950Z
UID:7136-1761123600-1761152400@ncsubvets.org
SUMMARY:Duke Energy Military Appreciation Day
DESCRIPTION:It is that time again!  We have been invited to participate in the military parade and stage our float at the NC State Fair.\n\nWednesday\, October 22\nSetup must be complete and all cars off the grounds by 0900\nStaging for the parade begins at 0915 (staging behind the Martin Building)\nBreakdown begins at 1700\nWade Cooper will be the point person for the day\n\nWe will have the same staging area as in the past (at the base of the large Ferris wheel along Hillsborough)\n\nPlease let me know if you are able to come out.  Let me know if you can be there early\, mid-day\, or afternoon/breakdown.  Also\, let me know if you intend to participate in the parade.\n\nThank you\,\nTom McFadden
URL:https://ncsubvets.org/event/duke-energy-military-appreciation-day/
LOCATION:North Carolina State Fairgrounds\, 25 Blue Ridge Road\, Raleigh\, NC\, 27607
END:VEVENT
BEGIN:VEVENT
DTSTART;TZID=America/New_York:20251111T153000
DTEND;TZID=America/New_York:20251111T170000
DTSTAMP:20260423T193535
CREATED:20251109T002908Z
LAST-MODIFIED:20251109T003102Z
UID:7177-1762875000-1762880400@ncsubvets.org
SUMMARY:Asheboro Veterans Day Parade Parking and Staging
DESCRIPTION: The parade starts at 4:00pm and we will need to be at our staging area not later than 3:30pm.  Our area is spot #50\, 51\, & 52 located on South Church Street.  This location is at the corner of W Kivett St & S Church St in front of Alcare Insurance.\nThere is a parking area located at the corner of Lanier Avenue & S. Church Street.
URL:https://ncsubvets.org/event/asheboro-veterans-day-parade-parking-and-staging/
LOCATION:Asheboro Downtown\, S\, Chuch Street\, Asheboro\, North Carolina
CATEGORIES:Nathanael Greene Base,NC Sub Vets,Tarheel Base
END:VEVENT
BEGIN:VEVENT
DTSTART;TZID=America/New_York:20251206T170000
DTEND;TZID=America/New_York:20251206T220000
DTSTAMP:20260423T193535
CREATED:20251029T145253Z
LAST-MODIFIED:20251029T145634Z
UID:7169-1765040400-1765058400@ncsubvets.org
SUMMARY:2025 Pearl Harbor Remembrance Dinner
DESCRIPTION:It is that time of year!  The attached is the Pearl Harbor Dinner registration form.  The event is Saturday\, December 6\, at the same location (NC State University Club).\nOur guest speaker is Matt Schecter.  Matt is serving as the Submarine Force Command Master Chief working for Vice Admiral Gaucher\, Commander Submarine Forces. \nWe will be having another amazing raffle.  The stash of gifts is plenty so no donations are needed. \nPlease keep in mind\, this event is open to all Sub Vets (all bases)\, all friends and family! \nRegistration Form: 2025 Pearl Harbor Remembrance Dinner
URL:https://ncsubvets.org/event/2025-pearl-harbor-remembrance-dinner/
LOCATION:NC State University Club\, 4200 Hillsborough St.\, Raleigh\, NC\, 27606\, United States
END:VEVENT
BEGIN:VEVENT
DTSTART;VALUE=DATE:20260515
DTEND;VALUE=DATE:20260518
DTSTAMP:20260423T193535
CREATED:20260318T182245Z
LAST-MODIFIED:20260318T182410Z
UID:7246-1778803200-1779062399@ncsubvets.org
SUMMARY:2026 NC Subvets Burnsville Memorial Service at Moonshine Mountain
DESCRIPTION:Due to in-climate weather last year the service was held at the lodge. At latest update rooms were still available but going fast.\nUSS Asheville and Carolina Piedmont Bases always do a great job.\nLodge Information: \nBig Lynn Lodge \n 10860 Hwy. 226A\nLittle Switzerland\, NC 28749\n2026 Registration Form
URL:https://ncsubvets.org/event/2026-nc-subvets-burnsville-memorial-service-at-moonshine-mountain/
LOCATION:Big Lynn Lodge\, Little Switzerland\, NC\, 10860 Hwy. 226A\, Little Switzerland\,\, NC\, 28749\, United States
END:VEVENT
END:VCALENDAR